BEGIN:VCALENDAR
VERSION:2.0
PRODID:-//Tukios.com/
BEGIN:VEVENT
UID:cb7a05e6-f682-431d-b341-c1358a63a2a4@www.littletonfuneralhome.com
DTSTAMP:20260421T194219Z
DTSTART:20260424T170000Z
DTEND:20260424T180000Z
SUMMARY:Graveside Service
DESCRIPTION:
URL:https://www.littletonfuneralhome.com/obituaries/virginia-m-ginny-bernard
LOCATION:Sabina Cemetery  North College Street  Sabina OH 45169
GEO:39.4900081;-83.6403641
END:VEVENT
END:VCALENDAR